BEGIN:VCALENDAR
VERSION:2.0
PRODID:-//American-V Magazine - ECPv6.15.20//NONSGML v1.0//EN
CALSCALE:GREGORIAN
METHOD:PUBLISH
X-WR-CALNAME:American-V Magazine
X-ORIGINAL-URL:https://american-v.cso2w.com/hub
X-WR-CALDESC:Events for American-V Magazine
REFRESH-INTERVAL;VALUE=DURATION:PT1H
X-Robots-Tag:noindex
X-PUBLISHED-TTL:PT1H
BEGIN:VTIMEZONE
TZID:Europe/London
BEGIN:DAYLIGHT
TZOFFSETFROM:+0000
TZOFFSETTO:+0100
TZNAME:BST
DTSTART:20190331T010000
END:DAYLIGHT
BEGIN:STANDARD
TZOFFSETFROM:+0100
TZOFFSETTO:+0000
TZNAME:GMT
DTSTART:20191027T010000
END:STANDARD
BEGIN:DAYLIGHT
TZOFFSETFROM:+0000
TZOFFSETTO:+0100
TZNAME:BST
DTSTART:20200329T010000
END:DAYLIGHT
BEGIN:STANDARD
TZOFFSETFROM:+0100
TZOFFSETTO:+0000
TZNAME:GMT
DTSTART:20201025T010000
END:STANDARD
BEGIN:DAYLIGHT
TZOFFSETFROM:+0000
TZOFFSETTO:+0100
TZNAME:BST
DTSTART:20210328T010000
END:DAYLIGHT
BEGIN:STANDARD
TZOFFSETFROM:+0100
TZOFFSETTO:+0000
TZNAME:GMT
DTSTART:20211031T010000
END:STANDARD
BEGIN:DAYLIGHT
TZOFFSETFROM:+0000
TZOFFSETTO:+0100
TZNAME:BST
DTSTART:20220327T010000
END:DAYLIGHT
BEGIN:STANDARD
TZOFFSETFROM:+0100
TZOFFSETTO:+0000
TZNAME:GMT
DTSTART:20221030T010000
END:STANDARD
END:VTIMEZONE
BEGIN:VEVENT
DTSTART;TZID=Europe/London:20211204T100000
DTEND;TZID=Europe/London:20211212T170000
DTSTAMP:20260419T171238
CREATED:20210516T190032Z
LAST-MODIFIED:20210514T101449Z
UID:7093-1638612000-1639328400@american-v.cso2w.com
SUMMARY:Motorcycle Live N.E.C Birmingham
DESCRIPTION:Better later than never\, MCL has moved from its normal November slot to the beginning of December 2021. \nMotorcycle Manufacturers \nTrade and Retail Stands \nOn-Site Food Outlets \nBars \nBike Parking \nTicket Prices etc… TBA
URL:https://american-v.cso2w.com/hub/event/motorcycle-live-n-e-c-birmingham/
LOCATION:NEC\, NEC Birmingham\, Birmingham\, United Kingdom
CATEGORIES:Motorcycle Industry
ATTACH;FMTTYPE=image/jpeg:https://american-v.cso2w.com/hub/wp-content/uploads/2021/05/mcl2021.jpg
ORGANIZER;CN="MCIA Events Ltd":MAILTO:enquiries@motorcyclelive.co.uk
END:VEVENT
BEGIN:VEVENT
DTSTART;TZID=Europe/London:20210911T093000
DTEND;TZID=Europe/London:20210912T160000
DTSTAMP:20260419T171238
CREATED:20210516T183056Z
LAST-MODIFIED:20210514T095137Z
UID:7081-1631352600-1631462400@american-v.cso2w.com
SUMMARY:Manchester Bike Show
DESCRIPTION:With the closure of EventCity\, Manchester Bike Show has moved about a mile away to a new home at Bowlers Exhibition Centre. \nMotorcycle Manufacturers \nRetail Village \nClub Stands \nHelmet and Jacket Storage £1 \nBike Parking Adjacent to Exhibition Halls \nAdvance Adult Tickets £12.00 \nAdult OTD £15.00 \nChildren £3.00 \nUnder 5s Free \n  \n  \n 
URL:https://american-v.cso2w.com/hub/event/manchester-bike-show-2/
LOCATION:Bowlers Exhibition Centre\, Longbridge Road\, Stretford\, Manchester\, M17 1SN\, United Kingdom
CATEGORIES:Motorcycle Industry
ATTACH;FMTTYPE=image/png:https://american-v.cso2w.com/hub/wp-content/uploads/2021/05/manchester-bike-show-logo.png
END:VEVENT
BEGIN:VEVENT
DTSTART;VALUE=DATE:20210903
DTEND;VALUE=DATE:20210906
DTSTAMP:20260419T171238
CREATED:20210523T190016Z
LAST-MODIFIED:20210523T163734Z
UID:7006-1630627200-1630886399@american-v.cso2w.com
SUMMARY:Region 28 The Comeback Rally/Offshore Rally 2021
DESCRIPTION:Details to follow \n 
URL:https://american-v.cso2w.com/hub/event/region-28-the-comeback-rally-offshore-rally-2021/
LOCATION:Smallbrook Stadium\, 15 Aldermore Close\, Ryde\, Isle of Wight\, PO33 2DQ\, United Kingdom
CATEGORIES:H-DRCGB
ATTACH;FMTTYPE=image/jpeg:https://american-v.cso2w.com/hub/wp-content/uploads/2021/05/hdrcgb.jpg
END:VEVENT
BEGIN:VEVENT
DTSTART;VALUE=DATE:20210903
DTEND;VALUE=DATE:20210906
DTSTAMP:20260419T171238
CREATED:20210515T181507Z
LAST-MODIFIED:20210511T174250Z
UID:7038-1630627200-1630886399@american-v.cso2w.com
SUMMARY:Prague Harley Days
DESCRIPTION:Located at the Výstaviště Praha Holešovice\, a large exhibition centre and outdoor space just a couple of miles from Prague’s most famous landmarks\, the weekend features music\, beer\,bikes and food and\, in 2021\, pays tribute to the Sportster
URL:https://american-v.cso2w.com/hub/event/prague-harley-days/
LOCATION:Exhibition Groud\, U Výstaviště 67\, Prague 7\, Bohemia\, 17090\, Czech Republic
CATEGORIES:Harley-Davidson
ORGANIZER;CN="Prague Harley Days":MAILTO:info@pragueharleydays.cz
END:VEVENT
BEGIN:VEVENT
DTSTART;VALUE=DATE:20210903
DTEND;VALUE=DATE:20210906
DTSTAMP:20260419T171238
CREATED:20210514T190011Z
LAST-MODIFIED:20210513T172036Z
UID:7064-1630627200-1630886399@american-v.cso2w.com
SUMMARY:Stormin'the Castle Bike Rally & Custom Show
DESCRIPTION:30th Anniversary Rally and Custom Bike Show \nThree On-Site Bars \nTwo Stages hosting 10+ live bands with Big Country headlining \nTraders \nOn-Site Catering \nCamping (With Showers!) \n 
URL:https://american-v.cso2w.com/hub/event/storminthe-castle-bike-rally-custom-show/
LOCATION:Witton Castle\, Sloshes Lane\, Witton-le-Wear\, County Durham\, DL14 0DE
CATEGORIES:owners/riders club
ATTACH;FMTTYPE=image/jpeg:https://american-v.cso2w.com/hub/wp-content/uploads/2021/05/stormin-the-castle.jpg
END:VEVENT
BEGIN:VEVENT
DTSTART;TZID=Europe/London:20210814T100000
DTEND;TZID=Europe/London:20210814T170000
DTSTAMP:20260419T171238
CREATED:20210514T181051Z
LAST-MODIFIED:20210513T225058Z
UID:7077-1628935200-1628960400@american-v.cso2w.com
SUMMARY:Rides and Rods
DESCRIPTION:Bike Show with categories for: \nKustom Choppers\, American and Brit Customs\, Cafe Racer Builds\, British Classics\, Best Paint & Best in Show. \nPlus \nKustom Car\, Hot Rod and Lowrider show \nTrade Stalls \nBar \nFood \nLive Music
URL:https://american-v.cso2w.com/hub/event/rides-and-rods/
LOCATION:Tower Fields (Partridge Club)\, Irthlingborough Road\, Findon\, Northamptonshire\, NN9 5EJ\, United Kingdom
CATEGORIES:MC club
ATTACH;FMTTYPE=image/jpeg:https://american-v.cso2w.com/hub/wp-content/uploads/2021/05/rides-and-rods.jpg
END:VEVENT
BEGIN:VEVENT
DTSTART;VALUE=DATE:20210730
DTEND;VALUE=DATE:20210802
DTSTAMP:20260419T171238
CREATED:20210523T180018Z
LAST-MODIFIED:20210523T101904Z
UID:7004-1627603200-1627862399@american-v.cso2w.com
SUMMARY:Burning Budgie Rally 2021
DESCRIPTION:Bars\n \nBands \nStalls \nSaturday Ride Out \n£20 Including Camping and Breakfast \nAll Bikes Welcome
URL:https://american-v.cso2w.com/hub/event/burning-budgie-rally-2021/
LOCATION:Beaconsfield Town FC\, Windsor Road A355\, Beaconsfield\, Buckinghamshire\, HP9 2SE\, United Kingdom
CATEGORIES:owners/riders club
ATTACH;FMTTYPE=image/jpeg:https://american-v.cso2w.com/hub/wp-content/uploads/2021/05/WLHR.jpg
END:VEVENT
BEGIN:VEVENT
DTSTART;VALUE=DATE:20210721
DTEND;VALUE=DATE:20210801
DTSTAMP:20260419T171238
CREATED:20210516T180027Z
LAST-MODIFIED:20210513T213029Z
UID:7071-1626825600-1627775999@american-v.cso2w.com
SUMMARY:Border to Border Posse Ride HOG Rally
DESCRIPTION:Members Only \n10-Day ride from El Paso\, Texas to Roosville\, Montana \nClosing Party in Missoula\, Montana \n2\,600 Miles
URL:https://american-v.cso2w.com/hub/event/border-to-border-posse-ride-hog-rally/
LOCATION:Isle of Wight
ATTACH;FMTTYPE=image/jpeg:https://american-v.cso2w.com/hub/wp-content/uploads/2019/11/HOGlogo.jpeg
END:VEVENT
BEGIN:VEVENT
DTSTART;TZID=Europe/London:20210704T110000
DTEND;TZID=Europe/London:20210704T160000
DTSTAMP:20260419T171238
CREATED:20210514T183040Z
LAST-MODIFIED:20210513T165101Z
UID:7056-1625396400-1625414400@american-v.cso2w.com
SUMMARY:Blackpool Stanley Park Bike Show
DESCRIPTION:Fundraising Bike Show in Aid of MAG \nLive Music in the Bandstand \nTrophies for Various Classes and Best in Show \n£2 Bike/Trike Parking Includes Entry to Show
URL:https://american-v.cso2w.com/hub/event/blackpool-stanley-park-bike-show/
LOCATION:Stanley Park\, West Park Drive\, Blackpool\, Lancashire\, FY3 9HU\, United Kingdom
CATEGORIES:MAG
ATTACH;FMTTYPE=image/png:https://american-v.cso2w.com/hub/wp-content/uploads/2021/05/MAG.png
END:VEVENT
BEGIN:VEVENT
DTSTART;VALUE=DATE:20210618
DTEND;VALUE=DATE:20210621
DTSTAMP:20260419T171238
CREATED:20210515T180056Z
LAST-MODIFIED:20210511T114108Z
UID:7017-1623974400-1624233599@american-v.cso2w.com
SUMMARY:Czech Rally 2021
DESCRIPTION:H-DC’s long established Czech Rally returns to the Kemp svata Katerina park set in the East Bohemian forests. \nOn-site accommodation – Apartments\, Cabins and Camping. Electric hook up points available. \nLive music and disco \nBars \nOn-site caterers \nRides Out \nThis slideshow requires JavaScript. \nPhotos: H-DC Praha 2019
URL:https://american-v.cso2w.com/hub/event/czech-rally-2021/
LOCATION:Kemp svata Katerina\, Chotevice 326\, Chotevice\, Eastern Bohemia\, 54376\, Czech Republic
CATEGORIES:owners/riders club
ATTACH;FMTTYPE=image/png:https://american-v.cso2w.com/hub/wp-content/uploads/2021/05/hdccz.png
ORGANIZER;CN="H-DC Praha":MAILTO:info@hdcp.cz
END:VEVENT
BEGIN:VEVENT
DTSTART;VALUE=DATE:20200908
DTEND;VALUE=DATE:20200914
DTSTAMP:20260419T171238
CREATED:20200131T003037Z
LAST-MODIFIED:20200131T003037Z
UID:5443-1599523200-1600041599@american-v.cso2w.com
SUMMARY:European Bike Week\, Faaker See
DESCRIPTION:European Bike Week is the largest Harley-Davidson event\nin Europe and attracts thousands of Harley\nfans to the region of Carinthia every year. \n70\,000 bikes. \nCustom Chrome Europe Ride-In Bike Show \nParade \nHarley Village \nLive bands and entertainment \nCamping
URL:https://american-v.cso2w.com/hub/event/european-bike-week-faaker-see/
LOCATION:Faaker See\, Dietrichsteinerstraße 2\, Faak am See\, Carinthia\, 9583\, Austria
CATEGORIES:Harley-Davidson
ATTACH;FMTTYPE=image/png:https://american-v.cso2w.com/hub/wp-content/uploads/2020/01/harley_davidson.png
END:VEVENT
BEGIN:VEVENT
DTSTART;VALUE=DATE:20200905
DTEND;VALUE=DATE:20200907
DTSTAMP:20260419T171238
CREATED:20200127T024542Z
LAST-MODIFIED:20200127T024542Z
UID:5457-1599264000-1599436799@american-v.cso2w.com
SUMMARY:Americana International
DESCRIPTION:American cars\, bikes and other vehicles \nLive Music \nBurn Out Pit \nLine Dancing \nTattooist \nBurlesque Dancers \nChainsaw Carving \nWall of Death \nRifle Range \nShopping Village \nTickets  \nEarlybird £25 until May 2020
URL:https://american-v.cso2w.com/hub/event/americana-international/
LOCATION:Newark Showground\, Lincoln Road\, Coddington\, Nottinghamshire\, NG24 2NY\, United Kingdom
CATEGORIES:American-V oriented
ATTACH;FMTTYPE=image/jpeg:https://american-v.cso2w.com/hub/wp-content/uploads/2020/01/americana.jpg
END:VEVENT
BEGIN:VEVENT
DTSTART;VALUE=DATE:20200904
DTEND;VALUE=DATE:20200907
DTSTAMP:20260419T171238
CREATED:20191103T115833Z
LAST-MODIFIED:20200124T150759Z
UID:4813-1599177600-1599436799@american-v.cso2w.com
SUMMARY:H-DRCGB The Comeback Rally
DESCRIPTION:Hosted by Region 28 H-DRCGB (Offshore Riders) \nLive Music \nLate Bar \nFood \nRaffle \nand more… \nTickets \nMembers & Associates £15 \nGuests £20
URL:https://american-v.cso2w.com/hub/event/the-comeback-rally/
LOCATION:Smallbrook Stadium\, 15 Aldermore Close\, Ryde\, Isle of Wight\, PO33 2DQ\, United Kingdom
CATEGORIES:H-DRCGB
ATTACH;FMTTYPE=image/jpeg:https://american-v.cso2w.com/hub/wp-content/uploads/2019/10/hdrcgb.jpeg
END:VEVENT
BEGIN:VEVENT
DTSTART;VALUE=DATE:20200903
DTEND;VALUE=DATE:20200907
DTSTAMP:20260419T171238
CREATED:20200131T000537Z
LAST-MODIFIED:20200131T000537Z
UID:5549-1599091200-1599436799@american-v.cso2w.com
SUMMARY:Circus Maximus: The Rally in the Valley
DESCRIPTION:Annual HOG rally set in the Dee Valley\, North Wales \nThree evenings of entertainment \nFree Camping (Glamping available) \nCaravans & Motorhomes welcome \nLadies of Harley Event \nCustom Bike Show \nGuest Appearances \nTickets – Early Bird £32.50 Standard £37.50
URL:https://american-v.cso2w.com/hub/event/circus-maximus-the-rally-in-the-valley/
LOCATION:Royal International Pavillion\, Abbey Road\, Llangollen\, Denbighshire\, LL20 8SW\, United Kingdom
CATEGORIES:HOG
ATTACH;FMTTYPE=image/png:https://american-v.cso2w.com/hub/wp-content/uploads/2020/01/logo-hog.png
END:VEVENT
BEGIN:VEVENT
DTSTART;VALUE=DATE:20200828
DTEND;VALUE=DATE:20200901
DTSTAMP:20260419T171238
CREATED:20200129T024446Z
LAST-MODIFIED:20200129T024446Z
UID:5437-1598572800-1598918399@american-v.cso2w.com
SUMMARY:Thunder In The Glens
DESCRIPTION:Dunedin HOG Chapter in partnership with Edinburgh Harley-Davidson play host the largest HOG rally in the United Kingdom. \nTickets £50 including Rally Pack and T-Shirt \nFor further information\, please register for the event
URL:https://american-v.cso2w.com/hub/event/thunder-in-the-glens/
LOCATION:Various Venues Aviemore\, Aviemore\, PH22 1PN\, United Kingdom
CATEGORIES:HOG
ATTACH;FMTTYPE=image/png:https://american-v.cso2w.com/hub/wp-content/uploads/2020/01/logo-hog.png
END:VEVENT
BEGIN:VEVENT
DTSTART;TZID=Europe/London:20200822T100000
DTEND;TZID=Europe/London:20200822T170000
DTSTAMP:20260419T171238
CREATED:20200131T235228Z
LAST-MODIFIED:20200131T235228Z
UID:5587-1598090400-1598115600@american-v.cso2w.com
SUMMARY:Newmarket Harley-Davidson 1940s Day
DESCRIPTION:Newmarket Harley-Davidson are celebrating all things 1940’s with a selection of vintage automobiles\, custom themed motorcycles\, fashion and of course food\, refreshments and live entertainment!
URL:https://american-v.cso2w.com/hub/event/newmarket-harley-davidson-1940s-day/
LOCATION:Newmarket Harley-Davidson\, Oaks Drive\, Newmarket\, Suffolk\, CB8 7SX\, United Kingdom
CATEGORIES:Harley-Davidson
ATTACH;FMTTYPE=image/png:https://american-v.cso2w.com/hub/wp-content/uploads/2020/01/newmarket-logo.png
END:VEVENT
BEGIN:VEVENT
DTSTART;VALUE=DATE:20200814
DTEND;VALUE=DATE:20200817
DTSTAMP:20260419T171238
CREATED:20191103T112807Z
LAST-MODIFIED:20200124T151030Z
UID:4800-1597363200-1597622399@american-v.cso2w.com
SUMMARY:H-DRCGB Back to Basics Rally
DESCRIPTION:Hosted by Region 10 (East Midlands H-DRCGB \nFuz’s Legendary Mystery Rideout \nEntertainment both nights \nNo cars without prior arrangement \nTickets \nMembers £10 \nNon-Members £12 \n 
URL:https://american-v.cso2w.com/hub/event/back-to-basics-rally/
LOCATION:Beauvale Priory\, New Road\, Moorgreen\, Nottinghamshire\, NG16 2AA\, United Kingdom
CATEGORIES:H-DRCGB
ATTACH;FMTTYPE=image/jpeg:https://american-v.cso2w.com/hub/wp-content/uploads/2019/10/hdrcgb.jpeg
END:VEVENT
BEGIN:VEVENT
DTSTART;VALUE=DATE:20200731
DTEND;VALUE=DATE:20200803
DTSTAMP:20260419T171238
CREATED:20200128T162855Z
LAST-MODIFIED:20200128T163137Z
UID:5482-1596153600-1596412799@american-v.cso2w.com
SUMMARY:Burning Budgie Rally 2020
DESCRIPTION:West London Harley Riders’ annual rally \nCustom & Classic Bike Show\nBeer\, Bands\, Stalls.\nSaturday Ride Out\nNo personal drinks in the arena area \nTickets – £20 for weekend\, (includes camping and breakfast)
URL:https://american-v.cso2w.com/hub/event/burning-budgie-rally-2020/
LOCATION:Beaconsfield Town FC\, Windsor Road A355\, Beaconsfield\, Buckinghamshire\, HP9 2SE\, United Kingdom
CATEGORIES:owners/riders club
ATTACH;FMTTYPE=image/jpeg:https://american-v.cso2w.com/hub/wp-content/uploads/2020/01/west-london-hr.jpg
END:VEVENT
BEGIN:VEVENT
DTSTART;VALUE=DATE:20200730
DTEND;VALUE=DATE:20200803
DTSTAMP:20260419T171238
CREATED:20200129T235002Z
LAST-MODIFIED:20200129T235002Z
UID:5435-1596067200-1596412799@american-v.cso2w.com
SUMMARY:Finnish Harley Weekend
DESCRIPTION:The Finnish Harley Weekend 2020 is located in Vaasa at the Scandic Hotel Waskia. The hotel is 1km from the port for ferries to and from Umeå in Sweden (approx 4.5 hours) \nFriday – Poker Run \nFriday Evening – Barbeque Party. \nSaturday Evening – Buffet Dinner which takes place in the restaurant at the Hotel Waskia \nLive Music\, \nRide outs. \nFood and Drink \nTickets – €85 including the Poker Run and Dinner on Friday and Saturday \nAll bikers welcome
URL:https://american-v.cso2w.com/hub/event/finnish-harley-weekend/
LOCATION:Scandic Waskia\, Lemmenpolku 3\, Vaasa\, 65170\, Finland
CATEGORIES:HOG
ATTACH;FMTTYPE=image/png:https://american-v.cso2w.com/hub/wp-content/uploads/2020/01/logo-hog.png
END:VEVENT
BEGIN:VEVENT
DTSTART;VALUE=DATE:20200723
DTEND;VALUE=DATE:20200727
DTSTAMP:20260419T171238
CREATED:20200130T193304Z
LAST-MODIFIED:20200130T193304Z
UID:5533-1595462400-1595807999@american-v.cso2w.com
SUMMARY:28th Annual East of England Rally
DESCRIPTION:Fenlanders HOG annual rally in association with Newmarket Harley-Davidson \nFor a look at their extensive and detailed rally programme please click HERE \nTickets – £40 (pre-book) \n\n			\n				\n			\n			\n				\n			\n			\n		\n\n 
URL:https://american-v.cso2w.com/hub/event/28th-annual-east-of-england-rally/
LOCATION:Fakenham Racecourse\, Racecourse\, Fakenham\, Norfolk\, NR21 7NY\, United Kingdom
CATEGORIES:Harley-Davidson,HOG
ATTACH;FMTTYPE=image/jpeg:https://american-v.cso2w.com/hub/wp-content/uploads/2020/01/HOG-Fenlanders-Logo-300x256-1.jpg
END:VEVENT
BEGIN:VEVENT
DTSTART;VALUE=DATE:20200717
DTEND;VALUE=DATE:20200720
DTSTAMP:20260419T171238
CREATED:20200104T195405Z
LAST-MODIFIED:20200115T221852Z
UID:5229-1594944000-1595203199@american-v.cso2w.com
SUMMARY:The Bullfrog Bash
DESCRIPTION:With Bikes and Hot Rods\, Classics and Customs\, HAMC Nth Lincs’ annual Bullfrog Bash returns for its 5th year. \nPrizes for Best in Class \nSecure Camping Friday to Sunday (Midday) \nSecure Bike Parking \nLive Bands Friday & Saturday \nFireworks Display \nGood Food Available \nTraders \nNO fires. \nNO pets. \nSecure bike parking \nAll clubs welcome. \nTickets – Early Bird available at £10 p.p. \n  \n 
URL:https://american-v.cso2w.com/hub/event/the-bullfrog-bash/
LOCATION:Sleaford Rugby Club\, Sleaford Road\, Ruskington\, Lincolnshire\, NG34 8SP\, United Kingdom
CATEGORIES:MC club
ATTACH;FMTTYPE=image/jpeg:https://american-v.cso2w.com/hub/wp-content/uploads/2020/01/bullfrog-bash.jpg
END:VEVENT
BEGIN:VEVENT
DTSTART;VALUE=DATE:20200717
DTEND;VALUE=DATE:20200720
DTSTAMP:20260419T171238
CREATED:20191103T121636Z
LAST-MODIFIED:20200124T151150Z
UID:4817-1594944000-1595203199@american-v.cso2w.com
SUMMARY:H-DRCGB The Triple Rally
DESCRIPTION:Hosted by Sussex Coasters\, London and Three County Borders \nOn site catering \nLate Bar \nRaffles \nRideout \nLive Bands \nTrophies \nTickets \nMembers and Associates £15 \nNon-Members £20
URL:https://american-v.cso2w.com/hub/event/the-triple-rally/
LOCATION:Langney Sports Club\, Priory Lane\, Eastbourne\, East Sussex\, BN23 7QH\, United Kingdom
CATEGORIES:H-DRCGB
ATTACH;FMTTYPE=image/jpeg:https://american-v.cso2w.com/hub/wp-content/uploads/2019/10/hdrcgb.jpeg
END:VEVENT
BEGIN:VEVENT
DTSTART;VALUE=DATE:20200709
DTEND;VALUE=DATE:20200713
DTSTAMP:20260419T171238
CREATED:20200129T205655Z
LAST-MODIFIED:20200129T205655Z
UID:5430-1594252800-1594598399@american-v.cso2w.com
SUMMARY:Midnight Sun Bike Rally
DESCRIPTION:Set in the Norbotten region of northern Sweden\, the sun never sets on HOG’s Midnight Sun Rally. \nHotel rooms\, cottages and camping available \nSee website for details \nAll Bikers Welcome \n 
URL:https://american-v.cso2w.com/hub/event/midnight-sun-bike-rally/
LOCATION:Midnight Sun Rally Site\, Bredsel 105\, Vidsel\, Norrbotten\, 942 95\, Sweden
CATEGORIES:HOG
ATTACH;FMTTYPE=image/png:https://american-v.cso2w.com/hub/wp-content/uploads/2020/01/logo-hog.png
END:VEVENT
BEGIN:VEVENT
DTSTART;VALUE=DATE:20200709
DTEND;VALUE=DATE:20200713
DTSTAMP:20260419T171238
CREATED:20200129T004306Z
LAST-MODIFIED:20200129T004306Z
UID:5432-1594252800-1594598399@american-v.cso2w.com
SUMMARY:Bike Week Willingen
DESCRIPTION:One of the largest bike events in Europe\, Bike Week Willingen welcomes thousands of motorcyclists every year. \nCelebrating its 5th birthday in 2020\, everyone’s welcome \nLive Bands & DJs \nRides Out \nOver 100 Trade Stands \nFood & Drink \nHarley Demo Rides \nTickets – Free entry but a one-off 5 Euro donation will be taken at the bar to cover security and the post-party clean up
URL:https://american-v.cso2w.com/hub/event/bike-week-willingen/
LOCATION:Bike Week Willingen\, Zur Hoppecke\, Willingen\, Sauerland\, 34508\, Germany
CATEGORIES:American-V oriented
ATTACH;FMTTYPE=image/jpeg:https://american-v.cso2w.com/hub/wp-content/uploads/2020/01/willingen.jpg
END:VEVENT
BEGIN:VEVENT
DTSTART;VALUE=DATE:20200703
DTEND;VALUE=DATE:20200706
DTSTAMP:20260419T171238
CREATED:20200129T201556Z
LAST-MODIFIED:20200129T201556Z
UID:5428-1593734400-1593993599@american-v.cso2w.com
SUMMARY:Swiss Harley Days
DESCRIPTION:Harley-Davidson Switzerland present the 6th Swiss Harley Days in Lugano\, Switzerland. \nWith a varied programme of events\, Lugano expects to welcome over 70\,000 Harley enthusiasts to the area. \nBike Parade \n17 Official dealers on site \nMusic\, food bars and lots more
URL:https://american-v.cso2w.com/hub/event/swiss-harley-days/
LOCATION:Lugarno\, Lugarno\, Switzerland
CATEGORIES:Harley-Davidson
ATTACH;FMTTYPE=image/jpeg:https://american-v.cso2w.com/hub/wp-content/uploads/2020/01/swiss-harley.jpg
END:VEVENT
BEGIN:VEVENT
DTSTART;VALUE=DATE:20200702
DTEND;VALUE=DATE:20200706
DTSTAMP:20260419T171238
CREATED:20191102T165627Z
LAST-MODIFIED:20200210T165549Z
UID:4768-1593648000-1593993599@american-v.cso2w.com
SUMMARY:Wake the Lakes
DESCRIPTION:HOG Red Rose Chapter’s bash near Kendal\, Cumbria \nRide-in Custom Show \nGlamping Village (Onsite Accommodation) \nCamping Area (Onsite Accommodation) \nCamping is included in the price of the festival ticket\, with showers & toilets. \nBike parking is also available on hard standing or next to your tent (Weather dependant). \nGroup tour of the Lake District \nGroup Ride-outs \nCustom Bike Show \nTickets \nEvent Ticket including T-Shirt and Pack £40 \nKids under 16 free \nThis slideshow requires JavaScript.
URL:https://american-v.cso2w.com/hub/event/wake-the-lakes/
LOCATION:Mintbridge\, Kendal Rugby Club\, Shap Road\, Kendal\, Cumbria\, LA9 6NY\, United Kingdom
CATEGORIES:HOG
ATTACH;FMTTYPE=image/jpeg:https://american-v.cso2w.com/hub/wp-content/uploads/2019/11/HOGlogo.jpeg
END:VEVENT
BEGIN:VEVENT
DTSTART;VALUE=DATE:20200626
DTEND;VALUE=DATE:20200629
DTSTAMP:20260419T171238
CREATED:20200127T025906Z
LAST-MODIFIED:20200127T025906Z
UID:5426-1593129600-1593388799@american-v.cso2w.com
SUMMARY:Hamburg Harley Days
DESCRIPTION:Harley Village \nParade \nDemo Rides \nRide-In bike show – takes place on Saturday in Mönckebergstraße\,  is in the centre of Hamburg. \nAnd much more
URL:https://american-v.cso2w.com/hub/event/hamburg-harley-days/
LOCATION:Hamburger Großmarkt\, Auf der Brandshofer\, Schlete 4\, Hamburg\, 20097\, Germany
CATEGORIES:owners/riders club
ATTACH;FMTTYPE=image/jpeg:https://american-v.cso2w.com/hub/wp-content/uploads/2020/01/hamburg.jpg
END:VEVENT
BEGIN:VEVENT
DTSTART;TZID=Europe/London:20200625T080000
DTEND;TZID=Europe/London:20200628T170000
DTSTAMP:20260419T171238
CREATED:20191103T142901Z
LAST-MODIFIED:20191103T142901Z
UID:4822-1593072000-1593363600@american-v.cso2w.com
SUMMARY:H-DRCGB International Rally 2020
DESCRIPTION:Camping\, dormitories and hotel rooms available. \nFood available at the hotel and in Hay-on-Wye (1.8 miles away) \nLate Bar \nLive Music on Friday and Saturday evening and Saturday afternoon \nBike Show \nTraders \nTickets \nMembers and Associates £20 \nNon-Members £25 \n 
URL:https://american-v.cso2w.com/hub/event/h-drcgb-international-rally-2020/
LOCATION:Baskerville Hall\, Clyro Court\, Clyro\, Hay-on-Wye\, Powys\, HR3 5LE\, United Kingdom
CATEGORIES:H-DRCGB
ATTACH;FMTTYPE=image/jpeg:https://american-v.cso2w.com/hub/wp-content/uploads/2019/10/hdrcgb.jpeg
END:VEVENT
BEGIN:VEVENT
DTSTART;VALUE=DATE:20200625
DTEND;VALUE=DATE:20200629
DTSTAMP:20260419T171238
CREATED:20200129T021310Z
LAST-MODIFIED:20200129T021310Z
UID:5424-1593043200-1593388799@american-v.cso2w.com
SUMMARY:Norwegian National Rally
DESCRIPTION:Norway’s South-East HOG Chapter are hosting the 2020 National Rally. Centred on the Quality Hotel and the Pier in the centre of Tønsberg. \nFor further information please register for the event
URL:https://american-v.cso2w.com/hub/event/norwegian-national-rally/
LOCATION:Quality Hotel\, Ollebukta 3\, Tønsberg\, Vestfold og Telemark\, 3126\, Norway
CATEGORIES:HOG
ATTACH;FMTTYPE=image/png:https://american-v.cso2w.com/hub/wp-content/uploads/2020/01/logo-hog.png
END:VEVENT
BEGIN:VEVENT
DTSTART;VALUE=DATE:20200619
DTEND;VALUE=DATE:20200622
DTSTAMP:20260419T171238
CREATED:20200131T233623Z
LAST-MODIFIED:20200131T233623Z
UID:5580-1592524800-1592783999@american-v.cso2w.com
SUMMARY:Hogs in the Hayfields
DESCRIPTION:Join HOG Great Western Chapter at The Hayfields for their 13th Annual Rally \nEarly Bird Registration from 1st February to 31st March 2020 \nEarly Bird Ticket Price £25 / £30 thereafter \nUnder 16’s go free\, but must be accompanied by an adult \nTicket Price Includes \nAccess to the rally site\nFree on-site camping (tents and motorhomes)\nSaturday rideout\nLocal DJ Dave Curtis\nLOH Hospitality tent\nFree tea and cake on arrival\nChapter games\nOn-site catering\nFree shuttle bus to Premier Inn\, Emersons Green \nPlus two evenings of live music \nThis year’s rally theme is “Film & TV Heroes and Villians”. So Darth Vader\, Indiana Jones and Cat Woman you are invited to attend the Blockbuster event of the Summer
URL:https://american-v.cso2w.com/hub/event/hogs-in-the-hayfields/
LOCATION:Cleve Rugby Club\, The Hayfields\, Cossham Street\, Emersons Green\, Bristol\, BS16 9EN\, United Kingdom
CATEGORIES:HOG
ATTACH;FMTTYPE=image/jpeg:https://american-v.cso2w.com/hub/wp-content/uploads/2020/01/HOG-GWC-200x150-1.jpg
END:VEVENT
END:VCALENDAR