BEGIN:VCALENDAR
VERSION:2.0
PRODID:-//American-V Magazine - ECPv6.15.20//NONSGML v1.0//EN
CALSCALE:GREGORIAN
METHOD:PUBLISH
X-WR-CALNAME:American-V Magazine
X-ORIGINAL-URL:https://american-v.cso2w.com/hub
X-WR-CALDESC:Events for American-V Magazine
REFRESH-INTERVAL;VALUE=DURATION:PT1H
X-Robots-Tag:noindex
X-PUBLISHED-TTL:PT1H
BEGIN:VTIMEZONE
TZID:Europe/London
BEGIN:DAYLIGHT
TZOFFSETFROM:+0000
TZOFFSETTO:+0100
TZNAME:BST
DTSTART:20180325T010000
END:DAYLIGHT
BEGIN:STANDARD
TZOFFSETFROM:+0100
TZOFFSETTO:+0000
TZNAME:GMT
DTSTART:20181028T010000
END:STANDARD
BEGIN:DAYLIGHT
TZOFFSETFROM:+0000
TZOFFSETTO:+0100
TZNAME:BST
DTSTART:20190331T010000
END:DAYLIGHT
BEGIN:STANDARD
TZOFFSETFROM:+0100
TZOFFSETTO:+0000
TZNAME:GMT
DTSTART:20191027T010000
END:STANDARD
BEGIN:DAYLIGHT
TZOFFSETFROM:+0000
TZOFFSETTO:+0100
TZNAME:BST
DTSTART:20200329T010000
END:DAYLIGHT
BEGIN:STANDARD
TZOFFSETFROM:+0100
TZOFFSETTO:+0000
TZNAME:GMT
DTSTART:20201025T010000
END:STANDARD
END:VTIMEZONE
BEGIN:VEVENT
DTSTART;VALUE=DATE:20191115
DTEND;VALUE=DATE:20191118
DTSTAMP:20260419T133245
CREATED:20191102T141903Z
LAST-MODIFIED:20191102T141903Z
UID:4736-1573776000-1574035199@american-v.cso2w.com
SUMMARY:40th Pheasant Plucker Rally
DESCRIPTION:Derbyshire 623MCC’s annual November rally near Ripley in Nottinghamshire (time to dig out those thermals!) \nBands Friday and Saturday night\,\nMark Terry disco all weekend.\nLate bar and food on site all day\nFree tea and coffee from control all weekend\nBadges for all prebooked \nTickets \n£16 via PayPal or\n£15  by cheque with SAE\n£20 pay on gate\, \nThis is a motorcycle rally\, no cars\, vans\, dogs unless by prior arrangements.
URL:https://american-v.cso2w.com/hub/event/40th-pheasant-plucker-rally/
LOCATION:Lumb Farm Country Club\, Derby Road\, Marehay nr Ripley\, Nottinghamshire\, DE58JN\, United Kingdom
CATEGORIES:MCC Rally
ATTACH;FMTTYPE=image/jpeg:https://american-v.cso2w.com/hub/wp-content/uploads/2019/11/derbyshire-623.jpg
END:VEVENT
END:VCALENDAR