BEGIN:VCALENDAR
VERSION:2.0
PRODID:-//American-V Magazine - ECPv6.15.20//NONSGML v1.0//EN
CALSCALE:GREGORIAN
METHOD:PUBLISH
X-ORIGINAL-URL:https://american-v.cso2w.com/hub
X-WR-CALDESC:Events for American-V Magazine
REFRESH-INTERVAL;VALUE=DURATION:PT1H
X-Robots-Tag:noindex
X-PUBLISHED-TTL:PT1H
BEGIN:VTIMEZONE
TZID:Europe/London
BEGIN:DAYLIGHT
TZOFFSETFROM:+0000
TZOFFSETTO:+0100
TZNAME:BST
DTSTART:20190331T010000
END:DAYLIGHT
BEGIN:STANDARD
TZOFFSETFROM:+0100
TZOFFSETTO:+0000
TZNAME:GMT
DTSTART:20191027T010000
END:STANDARD
BEGIN:DAYLIGHT
TZOFFSETFROM:+0000
TZOFFSETTO:+0100
TZNAME:BST
DTSTART:20200329T010000
END:DAYLIGHT
BEGIN:STANDARD
TZOFFSETFROM:+0100
TZOFFSETTO:+0000
TZNAME:GMT
DTSTART:20201025T010000
END:STANDARD
BEGIN:DAYLIGHT
TZOFFSETFROM:+0000
TZOFFSETTO:+0100
TZNAME:BST
DTSTART:20210328T010000
END:DAYLIGHT
BEGIN:STANDARD
TZOFFSETFROM:+0100
TZOFFSETTO:+0000
TZNAME:GMT
DTSTART:20211031T010000
END:STANDARD
END:VTIMEZONE
BEGIN:VEVENT
DTSTART;VALUE=DATE:20200612
DTEND;VALUE=DATE:20200615
DTSTAMP:20260419T143105
CREATED:20191111T112246Z
LAST-MODIFIED:20191111T112246Z
UID:4928-1591920000-1592179199@american-v.cso2w.com
SUMMARY:2020 Indian Riders Fest
DESCRIPTION:Organised by First Czech Riders Group in association with the Indian Motorcycle dealership in Pisek\, the event has been chosen to host the Indian Motorcycle Riders Group annual international meeting in 2020. \nLive music\, DJs\, food\, bars\, bike shows and everything you’d expect from a three-day international bike fest. \nTickets \nPre-sales for €129\,- until 31.12.2019 \n€149\,- from 01.01.2020
URL:https://american-v.cso2w.com/hub/event/2020-indian-riders-fest/
LOCATION:Expo Halls | Výstaviště České Budějovice\, Husova 523/30\, České Budějovice\, 370 05\, Czech Republic
CATEGORIES:IMRG
ATTACH;FMTTYPE=image/jpeg:https://american-v.cso2w.com/hub/wp-content/uploads/2019/11/indian-motorcycle-riders-group.jpg
END:VEVENT
END:VCALENDAR