BEGIN:VCALENDAR
VERSION:2.0
PRODID:-//American-V Magazine - ECPv6.15.20//NONSGML v1.0//EN
CALSCALE:GREGORIAN
METHOD:PUBLISH
X-ORIGINAL-URL:https://american-v.cso2w.com/hub
X-WR-CALDESC:Events for American-V Magazine
REFRESH-INTERVAL;VALUE=DURATION:PT1H
X-Robots-Tag:noindex
X-PUBLISHED-TTL:PT1H
BEGIN:VTIMEZONE
TZID:Europe/London
BEGIN:DAYLIGHT
TZOFFSETFROM:+0000
TZOFFSETTO:+0100
TZNAME:BST
DTSTART:20180325T010000
END:DAYLIGHT
BEGIN:STANDARD
TZOFFSETFROM:+0100
TZOFFSETTO:+0000
TZNAME:GMT
DTSTART:20181028T010000
END:STANDARD
BEGIN:DAYLIGHT
TZOFFSETFROM:+0000
TZOFFSETTO:+0100
TZNAME:BST
DTSTART:20190331T010000
END:DAYLIGHT
BEGIN:STANDARD
TZOFFSETFROM:+0100
TZOFFSETTO:+0000
TZNAME:GMT
DTSTART:20191027T010000
END:STANDARD
BEGIN:DAYLIGHT
TZOFFSETFROM:+0000
TZOFFSETTO:+0100
TZNAME:BST
DTSTART:20200329T010000
END:DAYLIGHT
BEGIN:STANDARD
TZOFFSETFROM:+0100
TZOFFSETTO:+0000
TZNAME:GMT
DTSTART:20201025T010000
END:STANDARD
BEGIN:DAYLIGHT
TZOFFSETFROM:+0000
TZOFFSETTO:+0100
TZNAME:BST
DTSTART:20210328T010000
END:DAYLIGHT
BEGIN:STANDARD
TZOFFSETFROM:+0100
TZOFFSETTO:+0000
TZNAME:GMT
DTSTART:20211031T010000
END:STANDARD
END:VTIMEZONE
BEGIN:VEVENT
DTSTART;VALUE=DATE:20200905
DTEND;VALUE=DATE:20200907
DTSTAMP:20260419T143033
CREATED:20200127T024542Z
LAST-MODIFIED:20200127T024542Z
UID:5457-1599264000-1599436799@american-v.cso2w.com
SUMMARY:Americana International
DESCRIPTION:American cars\, bikes and other vehicles \nLive Music \nBurn Out Pit \nLine Dancing \nTattooist \nBurlesque Dancers \nChainsaw Carving \nWall of Death \nRifle Range \nShopping Village \nTickets  \nEarlybird £25 until May 2020
URL:https://american-v.cso2w.com/hub/event/americana-international/
LOCATION:Newark Showground\, Lincoln Road\, Coddington\, Nottinghamshire\, NG24 2NY\, United Kingdom
CATEGORIES:American-V oriented
ATTACH;FMTTYPE=image/jpeg:https://american-v.cso2w.com/hub/wp-content/uploads/2020/01/americana.jpg
END:VEVENT
BEGIN:VEVENT
DTSTART;VALUE=DATE:20200709
DTEND;VALUE=DATE:20200713
DTSTAMP:20260419T143033
CREATED:20200129T004306Z
LAST-MODIFIED:20200129T004306Z
UID:5432-1594252800-1594598399@american-v.cso2w.com
SUMMARY:Bike Week Willingen
DESCRIPTION:One of the largest bike events in Europe\, Bike Week Willingen welcomes thousands of motorcyclists every year. \nCelebrating its 5th birthday in 2020\, everyone’s welcome \nLive Bands & DJs \nRides Out \nOver 100 Trade Stands \nFood & Drink \nHarley Demo Rides \nTickets – Free entry but a one-off 5 Euro donation will be taken at the bar to cover security and the post-party clean up
URL:https://american-v.cso2w.com/hub/event/bike-week-willingen/
LOCATION:Bike Week Willingen\, Zur Hoppecke\, Willingen\, Sauerland\, 34508\, Germany
CATEGORIES:American-V oriented
ATTACH;FMTTYPE=image/jpeg:https://american-v.cso2w.com/hub/wp-content/uploads/2020/01/willingen.jpg
END:VEVENT
BEGIN:VEVENT
DTSTART;VALUE=DATE:20200610
DTEND;VALUE=DATE:20200615
DTSTAMP:20260419T143033
CREATED:20200131T213532Z
LAST-MODIFIED:20200131T213532Z
UID:5563-1591747200-1592179199@american-v.cso2w.com
SUMMARY:Wheels & Waves
DESCRIPTION:Organised by Southsiders MC in partnership with Indian Motorcycle\, Wheels & Waves\, welcomes in excess of 22\,000 visitors per year. \nDescribed as a ‘Hybrid Festival’\, it combines motorcycling\, art\, skateboarding and surfing and attracts competitors from as far afield as Australia and Hawaii along with some of the best known names in their respective fields. \nOfficial events are held in various locations in the Pays Basque but there’s plenty going on for bikers in Biarritz itself \nWHEELS&WAVES VILLAGE – Cité de l’Océan\, Biarritz\nLOG SURF CONTEST – Plage de la Milady\, Biarritz\nPUNK’S PEAK SPRINT RACE – Jaïzkibel / Hondarribia\nHIT THE DECK SKATE CONTEST – Cité de l’Océan\, Biarritz\nPROJECTIONS/CONCERTS – Cité de l’Océan\, Biarritz\nINAUGURATION «ARTRIDE VII» – Skatepark\, Biarritz\nENDURO RACE – Saint-Pée-sur-Nivelle\nPROJECTIONS/CONCERTS – Cité de l’Océan\, Biarritz\nEL ROLLO FLAT TRACK RACE – Hippodrome de San Sebastian\nBRUNCH CONCERT – Cité de l’Océan\, Biarritz\nSULTANS OF SPRINT RACE – Quai Saint-Gobain\, Boucau \nThis slideshow requires JavaScript.
URL:https://american-v.cso2w.com/hub/event/wheels-waves/
LOCATION:Cite de l’Ocean\, 1 Avenue de la Plage\, Biarritz\, 64200
CATEGORIES:American-V oriented
ATTACH;FMTTYPE=image/jpeg:https://american-v.cso2w.com/hub/wp-content/uploads/2020/01/official-logo.jpg
END:VEVENT
BEGIN:VEVENT
DTSTART;VALUE=DATE:20200529
DTEND;VALUE=DATE:20200602
DTSTAMP:20260419T143033
CREATED:20200127T165009Z
LAST-MODIFIED:20200127T165009Z
UID:5420-1590710400-1591055999@american-v.cso2w.com
SUMMARY:Ireland Bike Fest
DESCRIPTION:Ireland BikeFest Killarney is an international motorcycle festival based in Killarney\, South-West of Ireland . It takes places annually on the June Bank Holiday Weekend. It is Ireland’s largest free open biker festival – all makes\, models and manner of bikes are welcome!\n\nParade\n\nCustom Bike Show\n\nLive entertainment \nOutdoor Stage\, Main Stage INEC and the Harley Bar in the Bike Village \nFestival Food & Fine Dining \nWild Atlantic Way Rides Out \nLadies Garage Party
URL:https://american-v.cso2w.com/hub/event/ireland-bike-fest/
LOCATION:Gleneagles Hotel & INEC\, Muckross Rd\, Poulnamuck\, Co Kerry\, Ireland
CATEGORIES:American-V oriented
ATTACH;FMTTYPE=image/png:https://american-v.cso2w.com/hub/wp-content/uploads/2020/01/bikefest-logo.png
END:VEVENT
BEGIN:VEVENT
DTSTART;TZID=Europe/London:20200430T180000
DTEND;TZID=Europe/London:20200430T223000
DTSTAMP:20260419T143033
CREATED:20191024T223232Z
LAST-MODIFIED:20191025T153626Z
UID:4647-1588269600-1588285800@american-v.cso2w.com
SUMMARY:Harley Night at the Ace
DESCRIPTION:Last Thursday of the month!
URL:https://american-v.cso2w.com/hub/event/harley-night-at-the-ace-4/
LOCATION:Ace Cafe\, Ace Cafe\, North Circular Road\, Stonebridge\, London\, NW10 7UD
CATEGORIES:American-V oriented
ATTACH;FMTTYPE=image/jpeg:https://american-v.cso2w.com/hub/wp-content/uploads/2019/10/ace-logo.jpg
END:VEVENT
BEGIN:VEVENT
DTSTART;TZID=Europe/London:20200326T180000
DTEND;TZID=Europe/London:20200326T223000
DTSTAMP:20260419T143033
CREATED:20191024T180731Z
LAST-MODIFIED:20191024T180731Z
UID:4619-1585245600-1585261800@american-v.cso2w.com
SUMMARY:Harley Night at the Ace
DESCRIPTION:
URL:https://american-v.cso2w.com/hub/event/harley-night-at-the-ace-3/
LOCATION:Ace Cafe\, Ace Cafe\, North Circular Road\, Stonebridge\, London\, NW10 7UD
CATEGORIES:American-V oriented
END:VEVENT
BEGIN:VEVENT
DTSTART;TZID=Europe/London:20200306T000000
DTEND;TZID=Europe/London:20200315T000000
DTSTAMP:20260419T143033
CREATED:20191024T180312Z
LAST-MODIFIED:20191025T160955Z
UID:4617-1583452800-1584230400@american-v.cso2w.com
SUMMARY:Daytona Bike Week
DESCRIPTION:Based round the Daytona Raceway but now a massive range of separate under one name.
URL:https://american-v.cso2w.com/hub/event/daytona-bike-week/
CATEGORIES:American-V oriented
ATTACH;FMTTYPE=image/png:https://american-v.cso2w.com/hub/wp-content/uploads/2019/10/daytona.png
END:VEVENT
BEGIN:VEVENT
DTSTART;TZID=Europe/London:20200227T180000
DTEND;TZID=Europe/London:20200227T223000
DTSTAMP:20260419T143033
CREATED:20191024T175422Z
LAST-MODIFIED:20191024T175422Z
UID:4611-1582826400-1582842600@american-v.cso2w.com
SUMMARY:Harley Night at the Ace Cafe
DESCRIPTION:
URL:https://american-v.cso2w.com/hub/event/harley-night-at-the-ace-cafe/
LOCATION:Ace Cafe\, Ace Cafe\, North Circular Road\, Stonebridge\, London\, NW10 7UD
CATEGORIES:American-V oriented
END:VEVENT
BEGIN:VEVENT
DTSTART;TZID=Europe/London:20200208T000000
DTEND;TZID=Europe/London:20200209T000000
DTSTAMP:20260419T143033
CREATED:20191024T175702Z
LAST-MODIFIED:20191024T175702Z
UID:4604-1581120000-1581206400@american-v.cso2w.com
SUMMARY:Dragon Rally
DESCRIPTION:For the hardier riders among us. Camping is available Saturday night ONLY. \nAs always\, venue to be announced closer to the time. \nTickets \nDirect to Bank  £25. \nSort Code: 09 01 55 Account: 62545182 \nTwo SAE’s. Required. \nCheque              £30   \nTwo SAE’s required. Cheques payable to “Conwy MCC Ltd” \nPaying in Euro’s? €35 .  \nNo SAEs are required but a legible postal & email address are both essential. \nCash £30  \nTwo SAEs required \nNO OTHER PAYMENT METHODS ARE AVAILABLE. \nPlease send applications to:- \nCONWY MCC \n25 MAELGWYN DRIVE \nDEGANWY \nCONWY \nLL31 9UY \n 
URL:https://american-v.cso2w.com/hub/event/dragon-rally/
LOCATION:TBA\, United Kingdom
CATEGORIES:American-V oriented
END:VEVENT
BEGIN:VEVENT
DTSTART;TZID=Europe/London:20200130T180000
DTEND;TZID=Europe/London:20200130T223000
DTSTAMP:20260419T143033
CREATED:20191024T175020Z
LAST-MODIFIED:20191024T175020Z
UID:4602-1580407200-1580423400@american-v.cso2w.com
SUMMARY:Harley Night at the Ace
DESCRIPTION:
URL:https://american-v.cso2w.com/hub/event/harley-night-at-the-ace-2/
LOCATION:Ace Cafe\, Ace Cafe\, North Circular Road\, Stonebridge\, London\, NW10 7UD
CATEGORIES:American-V oriented
END:VEVENT
BEGIN:VEVENT
DTSTART;TZID=Europe/London:20191207T100000
DTEND;TZID=Europe/London:20191207T150000
DTSTAMP:20260419T143033
CREATED:20191024T174814Z
LAST-MODIFIED:20191025T152032Z
UID:4599-1575712800-1575730800@american-v.cso2w.com
SUMMARY:Kempton Park Autojumble
DESCRIPTION:Over 250 regular traders and a host of enthusiasts having a clear-out. Kempton Park has both inside and outdoor market stalls\, plenty of facilities\, a food court\, restaurant and bars.
URL:https://american-v.cso2w.com/hub/event/kempton-park-autojumble/
LOCATION:Kempton Park Racecourse\, Staines Road East\, Sunbury on Thames\,\, Middlesex\, TW16 5AQ\, United Kingdom
CATEGORIES:American-V oriented
ATTACH;FMTTYPE=image/png:https://american-v.cso2w.com/hub/wp-content/uploads/2019/10/kempton-park.png
END:VEVENT
BEGIN:VEVENT
DTSTART;TZID=Europe/London:20191031T180000
DTEND;TZID=Europe/London:20191031T223000
DTSTAMP:20260419T143033
CREATED:20191021T222241Z
LAST-MODIFIED:20191025T153643Z
UID:4498-1572544800-1572561000@american-v.cso2w.com
SUMMARY:Harley Night at the Ace
DESCRIPTION:Last Thursday of the month!
URL:https://american-v.cso2w.com/hub/event/harley-night-at-the-ace/
LOCATION:Ace Cafe\, Ace Cafe\, North Circular Road\, Stonebridge\, London\, NW10 7UD
CATEGORIES:American-V oriented
ATTACH;FMTTYPE=image/jpeg:https://american-v.cso2w.com/hub/wp-content/uploads/2019/10/ace-logo.jpg
END:VEVENT
BEGIN:VEVENT
DTSTART;TZID=Europe/London:20191026T100000
DTEND;TZID=Europe/London:20191026T150000
DTSTAMP:20260419T143033
CREATED:20191023T230902Z
LAST-MODIFIED:20191023T230902Z
UID:4562-1572084000-1572102000@american-v.cso2w.com
SUMMARY:Kempton Autojumble
DESCRIPTION:Over 250 regular traders and a host of enthusiasts having a clear-out. Kempton Park has both inside and outdoor market stalls\, plenty of facilities\, a food court\, restaurant and bars.
URL:https://american-v.cso2w.com/hub/event/kempton-autojumble/
LOCATION:Kempton Park Racecourse\, Staines Road East\, Sunbury on Thames\,\, Middlesex\, TW16 5AQ\, United Kingdom
CATEGORIES:American-V oriented
END:VEVENT
END:VCALENDAR